BEGIN:VCALENDAR
PRODID:NingEventWidget-v1
VERSION:2.0
METHOD:PUBLISH
BEGIN:VTIMEZONE
TZID:Africa/Lagos
X-LIC-LOCATION:Africa/Lagos
BEGIN:STANDARD
TZOFFSETFROM:+0100
TZOFFSETTO:+0100
TZNAME:WAT
DTSTART:19700101T000000
END:STANDARD
END:VTIMEZONE
BEGIN:VEVENT
UID:6557379:Event:23839
DTSTAMP:20260424T115145Z
SUMMARY:Penselwood Oil Buying Group
DESCRIPTION:If you wish to order oil through the oil buying group cont
 act Richard Gething at richard.gething@outlook.com during the week sho
 wn.\n\nFor more information visit https://penselwood.ning.com/events/p
 enselwood-oil-buying-group
DTSTART;TZID=Africa/Lagos:20190107T000000
DTEND;TZID=Africa/Lagos:20190114T235900
CATEGORIES:oil, buying
LOCATION:Penselwood
WEBSITE:
URL:
CONTACT:01747 841481
ORGANIZER;CN="Richard Gething":https://penselwood.ning.com/profile/Ric
 hardGething
ATTACH;FMTTYPE="image/jpeg":
ATTENDEE;ROLE=REQ-PARTICIPANT;PARTSTAT=ACCEPTED;RSVP=TRUE;CN="Richard 
 Gething":https://penselwood.ning.com/profile/RichardGething
END:VEVENT
END:VCALENDAR
